BEGIN:VCALENDAR
VERSION:2.0
PRODID:-//Date iCal//NONSGML kigkonsult.se iCalcreator 2.18//
METHOD:PUBLISH
X-WR-CALNAME;VALUE=TEXT:A New Feel for Print – Paper Music Instruments 
BEGIN:VTIMEZONE
TZID:Europe/Berlin
BEGIN:STANDARD
DTSTART:20161030T030000
TZOFFSETFROM:+0200
TZOFFSETTO:+0100
TZNAME:CET
END:STANDARD
BEGIN:DAYLIGHT
DTSTART:20170326T020000
TZOFFSETFROM:+0100
TZOFFSETTO:+0200
TZNAME:CEST
END:DAYLIGHT
END:VTIMEZONE
BEGIN:VEVENT
UID:calendar.10268.field_session_datetime.0@16.re-publica.com
CREATED:20160329T141207Z
DESCRIPTION:The digitisation of printed materials is in full swing. But wha
 tss happening on the flip-side?
DTSTART;TZID=Europe/Berlin:20160502T144500
DTEND;TZID=Europe/Berlin:20160502T154500
LAST-MODIFIED:20160504T074525Z
LOCATION:Stage 1
SUMMARY:A New Feel for Print – Paper Music Instruments
URL;TYPE=URI:https://16.re-publica.com/en/16/session/new-feel-print-paper-m
 usic-instruments
END:VEVENT
END:VCALENDAR
