BEGIN:VCALENDAR
VERSION:2.0
PRODID:-//Date iCal//NONSGML kigkonsult.se iCalcreator 2.18//
METHOD:PUBLISH
X-WR-CALNAME;VALUE=TEXT:Welcome everybody!
BEGIN:VTIMEZONE
TZID:Europe/Berlin
BEGIN:STANDARD
DTSTART:20161030T030000
TZOFFSETFROM:+0200
TZOFFSETTO:+0100
TZNAME:CET
END:STANDARD
BEGIN:DAYLIGHT
DTSTART:20170326T020000
TZOFFSETFROM:+0100
TZOFFSETTO:+0200
TZNAME:CEST
END:DAYLIGHT
END:VTIMEZONE
BEGIN:VEVENT
UID:calendar.10779.field_session_datetime.0@16.re-publica.com
CREATED:20160418T195155Z
DESCRIPTION:Opening re:publica TEN
DTSTART;TZID=Europe/Berlin:20160502T100000
DTEND;TZID=Europe/Berlin:20160502T110000
LAST-MODIFIED:20160502T155706Z
LOCATION:Stage 1
SUMMARY:Welcome everybody!
URL;TYPE=URI:https://16.re-publica.com/en/16/session/welcome-everybody
END:VEVENT
END:VCALENDAR
