BEGIN:VCALENDAR
VERSION:2.0
PRODID:-//Date iCal//NONSGML kigkonsult.se iCalcreator 2.18//
METHOD:PUBLISH
X-WR-CALNAME;VALUE=TEXT:Datteltäter: Das islamische Empörium 
BEGIN:VTIMEZONE
TZID:Europe/Berlin
BEGIN:STANDARD
DTSTART:20161030T030000
TZOFFSETFROM:+0200
TZOFFSETTO:+0100
TZNAME:CET
END:STANDARD
BEGIN:DAYLIGHT
DTSTART:20170326T020000
TZOFFSETFROM:+0100
TZOFFSETTO:+0200
TZNAME:CEST
END:DAYLIGHT
END:VTIMEZONE
BEGIN:VEVENT
UID:calendar.10942.field_session_datetime.0@16.re-publica.com
CREATED:20160421T131245Z
DESCRIPTION:Muslime planen ein neues Satire-Kalifat im Herzen der YouTube-S
 zene und nun auch \nauf der re:publica. Wir rufen auf Stage 1 den Bildungs
 dschihad aus und \nsagen den gängigen Stereotypen gegenüber Muslimen den K
 ampf an.
DTSTART;TZID=Europe/Berlin:20160503T184500
DTEND;TZID=Europe/Berlin:20160503T191500
LAST-MODIFIED:20160510T083549Z
LOCATION:Stage 1
SUMMARY:Datteltäter: Das islamische Empörium
URL;TYPE=URI:https://16.re-publica.com/en/16/session/datteltater-islamische
 -emporium
END:VEVENT
END:VCALENDAR
