BEGIN:VCALENDAR
VERSION:2.0
PRODID:-//Date iCal//NONSGML kigkonsult.se iCalcreator 2.18//
METHOD:PUBLISH
X-WR-CALNAME;VALUE=TEXT:Music is the Instrument – Innovation for Impact
BEGIN:VTIMEZONE
TZID:Europe/Berlin
BEGIN:STANDARD
DTSTART:20161030T030000
TZOFFSETFROM:+0200
TZOFFSETTO:+0100
TZNAME:CET
END:STANDARD
BEGIN:DAYLIGHT
DTSTART:20170326T020000
TZOFFSETFROM:+0100
TZOFFSETTO:+0200
TZNAME:CEST
END:DAYLIGHT
END:VTIMEZONE
BEGIN:VEVENT
UID:calendar.10990.field_session_datetime.0@16.re-publica.com
CREATED:20160422T102614Z
DESCRIPTION:Matan's incredible journey from musician & film maker to award 
 winning inventor started with the realization that his actions could have 
 more 'real\, positive impact on the world'. In the past 2 years he has dev
 eloped ways to translate heartbeats\, brainwaves and motions into music wh
 ile turning everyday objects such as hats\, glasses and gloves into instru
 ments\, working to empower people with special needs to express themselves
  in new ways\, speaking and performing on stages worldwide and building in
 teractive installations for museums & galleries.\n\nAs the founder of Shif
 t\, a company which specializes in positive innovation\, Matan is now layi
 ng the foundations for a new kind of lab - one which works with emerging t
 echnologies while focusing on their potential to do good in the world. Dur
 ing this fascinating talk Matan will not only share his story\, insights a
 nd inventions\, but also perform a live demo of his latest prototype\, whi
 ch enables anyone to play music using nothing but hand movements.
DTSTART;TZID=Europe/Berlin:20160502T190000
DTEND;TZID=Europe/Berlin:20160502T193000
LAST-MODIFIED:20160505T111445Z
LOCATION:Stage 1
SUMMARY:Music is the Instrument – Innovation for Impact
URL;TYPE=URI:https://16.re-publica.com/en/16/session/music-instrument-innov
 ation-impact
END:VEVENT
END:VCALENDAR
