BEGIN:VCALENDAR
VERSION:2.0
PRODID:-//Date iCal//NONSGML kigkonsult.se iCalcreator 2.18//
METHOD:PUBLISH
X-WR-CALNAME;VALUE=TEXT:Raster des Hasses
BEGIN:VTIMEZONE
TZID:Europe/Berlin
BEGIN:STANDARD
DTSTART:20161030T030000
TZOFFSETFROM:+0200
TZOFFSETTO:+0100
TZNAME:CET
END:STANDARD
BEGIN:DAYLIGHT
DTSTART:20170326T020000
TZOFFSETFROM:+0100
TZOFFSETTO:+0200
TZNAME:CEST
END:DAYLIGHT
END:VTIMEZONE
BEGIN:VEVENT
UID:calendar.9791.field_session_datetime.0@16.re-publica.com
CREATED:20160310T115939Z
DESCRIPTION:Hass ist niemals spontan und er ist nicht individuell. Vielmehr
  gibt es eine Vorgeschichte\, einen Kontext\, aus dem er sich speist und d
 er ihn strukturiert. Es sind Raster\, die die Wirklichkeit strukturieren u
 nd filtern\, sodass diejenigen\, die abweichen\, die anders begehren\, and
 ers aussehen\, anders glauben\, anders trauern als die Norm\, ausgeblendet
  oder mit Projektionen überschrieben werden.
DTSTART;TZID=Europe/Berlin:20160503T134500
DTEND;TZID=Europe/Berlin:20160503T144500
LAST-MODIFIED:20160502T200950Z
LOCATION:Stage 1
SUMMARY:Raster des Hasses
URL;TYPE=URI:https://16.re-publica.com/en/16/session/raster-des-hasses
END:VEVENT
END:VCALENDAR
