BEGIN:VCALENDAR
VERSION:2.0
PRODID:-//Date iCal//NONSGML kigkonsult.se iCalcreator 2.18//
METHOD:PUBLISH
X-WR-CALNAME;VALUE=TEXT:The Courage of Compassion: Transforming Your Experi
 ence With Criticism
BEGIN:VTIMEZONE
TZID:Europe/Berlin
BEGIN:STANDARD
DTSTART:20161030T030000
TZOFFSETFROM:+0200
TZOFFSETTO:+0100
TZNAME:CET
END:STANDARD
BEGIN:DAYLIGHT
DTSTART:20170326T020000
TZOFFSETFROM:+0100
TZOFFSETTO:+0200
TZNAME:CEST
END:DAYLIGHT
END:VTIMEZONE
BEGIN:VEVENT
UID:calendar.9797.field_session_datetime.0@16.re-publica.com
CREATED:20160310T121343Z
DESCRIPTION:We have all been online long enough to have encountered critici
 sm from people whose faces we will never see. Some of it is constructive\,
  and some if it is awful\, anonymous assumptions and slurs that we do our 
 best to ignore. Sometimes our emotions prevent us from making a distinctio
 n between that which could be helpful and that which is just plain bullyin
 g. There isn’t a cure for it. It cannot be fixed or stopped. Learning how 
 to deal with both is a factor of life that our children will have to endur
 e on a scale we never did\, in ways we probably can’t imagine. I’ve tried 
 and failed many times to react in the best possible way and have finally l
 earned that “reacting” isn’t the answer. The answer is something much more
  fearless.
DTSTART;TZID=Europe/Berlin:20160502T133000
DTEND;TZID=Europe/Berlin:20160502T140000
LAST-MODIFIED:20160531T145847Z
LOCATION:Stage 1
SUMMARY:The Courage of Compassion: Transforming Your Experience With Critic
 ism
URL;TYPE=URI:https://16.re-publica.com/en/16/session/courage-compassion-tra
 nsforming-your-experience-criticism
END:VEVENT
END:VCALENDAR
